BEGIN:VCALENDAR
VERSION:2.0
PRODID:-//BPW Neuchatel//NONSGML kigkonsult.se iCalcreator 2.16.12//
METHOD:PUBLISH
X-MS-OLK-FORCEINSPECTOROPEN:TRUE
BEGIN:VEVENT
UID:20260424T135839CEST-6180hmwm5B@BPW Neuchatel
DTSTAMP:20260424T115839Z
DESCRIPTION: \nDéjeuner Convicial au Restaurant Eat Me le vendredi 8 janvie
 r 2015 à 12h30.\n\nLe restaurant Eat Me vous propose de vous transporter d
 ans un voyage autour du monde sur des petites assiettes\, dans une ambianc
 e chaleureuse et accueillante.\n\nPrix : 36 CHF par personne\n 
DTSTART:20160108T133000
DTEND:20160108T150000
LOCATION:Restaurant Eat Me
ORGANIZER:MAILTO:BPW Neuchatel <info@bpw-neuchatel.ch>
SUMMARY:Déjeuner au Eat Me
END:VEVENT
END:VCALENDAR
