BEGIN:VCALENDAR
VERSION:2.0
PRODID:-//BPW Neuchatel//NONSGML kigkonsult.se iCalcreator 2.16.12//
METHOD:PUBLISH
X-MS-OLK-FORCEINSPECTOROPEN:TRUE
BEGIN:VEVENT
UID:20260424T135812CEST-3088dxg7h5@BPW Neuchatel
DTSTAMP:20260424T115812Z
DESCRIPTION: \n\nLes membres de BPW Lausanne recevront une convocation par 
 la poste.\n\n\n \n\nVoici plus d'informations concernant la traditonnel 'C
 érémonie des bougies' qui suivra l'Assemblée Générale :\n\n \n\nNous pours
 uivrons par l’habituelle célébration du dîner dit « des Lumières » ou « Cé
 rémonie des bougies »\, qui fut initié en hiver 1942 par la présidente fon
 datrice des BPW : Léna Madesin Philips. « Etablir des liens d’amitiés et d
 e coopération entre les femmes du monde entier » était un des objectifs qu
 ’elle avait fixé pour orienter l’action de notre fédération. Léna Madesin 
 Philips avait la conviction profonde que la participation plus active des 
 femmes aux décisions serait un gage de paix. En conséquence\, elle voulut 
 symboliser sa pensée en instituant\, aux jours les plus sombres de la deux
 ième guerre mondiale\, la cérémonie des bougies.\n\n \n\nChaque pays était
  représenté par une bougie allumée. Etaient éteintes l’une après l’autre\,
  les bougies identifiant les pays en guerre. Seules restaient allumées les
  bougies des pays libres. Par ce geste\, elle rappelait à ses compatriotes
 \, les souffrances de l'Europe et entretenait la flamme de l’espoir. Ainsi
 \, s’est établie la tradition qui veut que chaque année\, dans chaque pays
 \, toutes les membres du BPW se réunissent pour la célébration des bougies
 \, pour faire vivre l’espoir et évoquer\, comme l’a souhaité notre fondatr
 ice\, toutes les femmes qui\, de par le monde\, ne jouissent pas de leur t
 otale liberté\, et dont la condition ne demande qu’à être améliorée. \n\n 
 \n
DTSTART:20160322T190000
DTEND:20160323T000000
LOCATION:Hôtel Alpha Palmiers
ORGANIZER:MAILTO:BPW Neuchatel <info@bpw-neuchatel.ch>
SUMMARY:Assemblée Générale BPW Lausanne
END:VEVENT
END:VCALENDAR
