BEGIN:VCALENDAR
VERSION:2.0
PRODID:-//BPW Neuchatel//NONSGML kigkonsult.se iCalcreator 2.16.12//
METHOD:PUBLISH
X-MS-OLK-FORCEINSPECTOROPEN:TRUE
BEGIN:VEVENT
UID:20260420T162857CEST-5020LBTWVC@BPW Neuchatel
DTSTAMP:20260420T142857Z
DESCRIPTION:C'est avec un immense plaisir que nous vous convions à notre pr
 ochaine conférence « La création d’entreprise en Suisse »  avec Douglas Fi
 nazzi.\n\nÀ propos de Douglas Finazzi:\nDouglas est titulaire d’un Bachelo
 r en Droit de l’Université de Neuchâtel ainsi que d’un Master en Droit et 
 Économie de HEC Lausanne. Il a débuté sa carrière en fondant sa propre sta
 rtup\, où il a œuvré plusieurs années dans les secteurs de la technologie 
 et de l’horlogerie\, en commercialisant notamment la première montre mécan
 ique et connectée\, X-ONE. Aujourd’hui\, il occupe le poste de Directeur p
 our la Suisse romande et le Tessin chez IFJ Startup Support. Par ailleurs\
 , il est le fondateur et CEO de C’mon Sports\, une agence spécialisée dans
  le sport business\, qui se distingue par son expertise dans la monétisati
 on des bases de données de fans.\n\nÀ propos de la présentation «La créati
 on d’entreprise en Suisse » :\nCet événement intensif s’adresse à toute pe
 rsonne en Suisse ayant une idée d’entreprise et l’intention de la concréti
 ser prochainement. Il propose un accompagnement complet pour poser les bas
 es solides de son projet entrepreneurial. participants découvriront les dé
 marches essentielles telles que le choix de la forme juridique\, l’inscrip
 tion au registre du commerce\, ainsi que la planification des besoins en i
 nfrastructure et implantation. En complément\, une check-list détaillée le
 ur permettra de structurer efficacement leur projet et d’éviter les erreur
 s fréquentes dès les premières étapes. Cet événement représente une opport
 unité unique de démarrer son entreprise en Suisse dans les meilleures cond
 itions.\n\nDétails de l'événement :\n \n\n	Date : Jeudi le 13 Mars 2025\n	Ho
 raire : 18h30 – Accueil \; 19h à 19h50 – Conférence \; 20h - Réseautage au
  Waves\n	Lieu : Best Western Premier Hotel Beaulac - 2 Esplanade Léopold-Ro
 bert\, 2000 Neuchâtel-NE\n	Format : Présentation suivie d'une session de qu
 estions-réponses.\n	Prix : 55 CHF pour les membres \; 66 CHF pour les non-m
 embres\n\n\nLes inscriptions sont ouvertes jusqu’au 10 mars 2025 \n 
DTSTART:20250313T183000
DTEND:20250313T230000
LOCATION:Best Western Premier Hotel Beaulac - 2 Esplanade Léopold-Robert\, 
 2000 Neuchâtel-NE
ORGANIZER:MAILTO:BPW Neuchatel <info@bpw-neuchatel.ch>
SUMMARY:Conférence : La création d d’entreprise en Suisse  
END:VEVENT
END:VCALENDAR
