BEGIN:VCALENDAR
VERSION:2.0
PRODID:-//BPW Neuchatel//NONSGML kigkonsult.se iCalcreator 2.16.12//
METHOD:PUBLISH
X-MS-OLK-FORCEINSPECTOROPEN:TRUE
BEGIN:VEVENT
UID:20260424T142406CEST-3340pprVZf@BPW Neuchatel
DTSTAMP:20260424T122406Z
DESCRIPTION:       EQUAL PAY DAY 2016\n \n\nAMELIORER LA LOI POUR LUTTER CO
 NTRE LES ECARTS DE SALAIRES\n\nUNE JOURNEE NATIONALE POUR DENONCER LES ECA
 RTS DE SALAIRES ENTRE LES HOMMES ET LES FEMMES\n \n\nEn Suisse en 2014\, l
 ’écart de salaire entre femmes et hommes est de 15\,1%. \n\nEquivalent à 3
 8 jours de travail en plus pour les femmes afin d’obtenir le même salaire 
 que les hommes.\n\nPorter un sac rouge le jour de l’Equal Pay Day\, c’est 
 dire qu’il manque de l’argent dans le sac des femmes. \n\n \n\nPERFORMANCE
  PICTURALE PAR L’ARTISTE ALEXIA WEILL\n\n \n\n \n
DTSTART:20160224T130000
DTEND:20160224T150000
LOCATION:Lausanne
ORGANIZER:MAILTO:BPW Neuchatel <info@bpw-neuchatel.ch>
SUMMARY:Equal Pay Day 2016 - à Lausanne
END:VEVENT
END:VCALENDAR
