BEGIN:VCALENDAR
VERSION:2.0
PRODID:-//BPW Neuchatel//NONSGML kigkonsult.se iCalcreator 2.16.12//
METHOD:PUBLISH
X-MS-OLK-FORCEINSPECTOROPEN:TRUE
BEGIN:VEVENT
UID:20260424T135947CEST-5401aWwtx1@BPW Neuchatel
DTSTAMP:20260424T115947Z
DESCRIPTION:Une manière de se rencontrer différement\, d'échanger de manièr
 e plus informelle\, en petit comité.\n\nVeuillez vous inscrire en compléta
 nt le doodle :\nhttp://doodle.com/poll/npxa5w6z2p6x5q2g
DTSTART:20160512T180000
DTEND:20160512T220000
LOCATION:Lausanne Palace
ORGANIZER:MAILTO:BPW Neuchatel <info@bpw-neuchatel.ch>
SUMMARY:After-Work
END:VEVENT
END:VCALENDAR
