BEGIN:VCALENDAR
VERSION:2.0
PRODID:-//BPW Neuchatel//NONSGML kigkonsult.se iCalcreator 2.16.12//
METHOD:PUBLISH
X-MS-OLK-FORCEINSPECTOROPEN:TRUE
BEGIN:VEVENT
UID:20260424T135840CEST-1223Kvt993@BPW Neuchatel
DTSTAMP:20260424T115840Z
DESCRIPTION:Déjeuner convivial au restaurant Eat Me au centre de Lausanne\,
  à 12h30.\n\nLe restaurant Eat Me vous propose de vous transporter dans un
  voyage autour du monde sur des petites assiettes\, dans une ambiance chal
 eureuse et accueillante.\n\nPrix : 36CHF par personne.
DTSTART:20160527T123000
DTEND:20160527T140000
LOCATION:Eat Me
ORGANIZER:MAILTO:BPW Neuchatel <info@bpw-neuchatel.ch>
SUMMARY:Lunch : Rencontre Conviviale Networking
END:VEVENT
END:VCALENDAR
