BEGIN:VCALENDAR
VERSION:2.0
PRODID:-//BPW Neuchatel//NONSGML kigkonsult.se iCalcreator 2.16.12//
METHOD:PUBLISH
X-MS-OLK-FORCEINSPECTOROPEN:TRUE
BEGIN:VEVENT
UID:20260424T141733CEST-2028gKpWR3@BPW Neuchatel
DTSTAMP:20260424T121733Z
DESCRIPTION:Manifestations 2016\n \nChère membres\,\n \nNous avons le plais
 ir de vous inviter à notre prochaine conférence sur le thème\n \n'L’exprim
 erie'\n \n \nNous aurons le plaisir d’accueillir Sandra Amodio de l’espace
  de formation « Exprimerie »\, coach en prise de parole et au bénéfice d’u
 ne longue expérience en tant que comédienne et metteure en scène.\n \nSelo
 n le slogan « devenir acteur de sa parole »\, elle va nous faire découvrir
  les secrets et forces de l’art oratoire pour persuader et créer de l’impa
 ct lors de vos prises de parole en public et en groupe.\n \nDate :        
        23 juin 2016\nLieu :                Hôtel Beau-Lac\, Neuchâtel\nHeu
 re :             Accueil dès 18h30\, conférence à 19h00.\nContribution :  
   CHF 49.- pour la conférence et le cocktail dinatoire.\nInscription :    
    Par Doodle (voir lien sur le mail)\n \n \nNous nous réjouissons de vous
  voir nombreuses et de passer avec vous une belle soirée de partage et de 
 convivialité.\n \nLe comité\n 
DTSTART:20160623T183000
DTEND:20160623T210000
LOCATION:Hôtel Beau-Lac\, Neuchâtel 
ORGANIZER:MAILTO:BPW Neuchatel <info@bpw-neuchatel.ch>
SUMMARY:Exemple - Conférence 'L'Exprimerie' 
END:VEVENT
END:VCALENDAR
