BEGIN:VCALENDAR
VERSION:2.0
PRODID:-//BPW Neuchatel//NONSGML kigkonsult.se iCalcreator 2.16.12//
METHOD:PUBLISH
X-MS-OLK-FORCEINSPECTOROPEN:TRUE
BEGIN:VEVENT
UID:20260424T135931CEST-7158AzSfpv@BPW Neuchatel
DTSTAMP:20260424T115931Z
DESCRIPTION:Le 26 août 1930 est le jour où Lena Madesin Phillips fonda à Ge
 nève l’association internationale des Business and Professional Women. Voi
 là pourquoi les BPW International ont décrété le 26 août comme le BPW Day.
  Vous pouvez y participez très facilement: il suffit de portez quelque cho
 se de jaune ce jour-là.\n\n#BPWDay
DTSTART:20160825T220000
DTEND:20160826T215900
LOCATION:weltweit
ORGANIZER:MAILTO:BPW Neuchatel <info@bpw-neuchatel.ch>
SUMMARY:BPW Day
END:VEVENT
END:VCALENDAR
