BEGIN:VCALENDAR
VERSION:2.0
PRODID:-//BPW Neuchatel//NONSGML kigkonsult.se iCalcreator 2.16.12//
METHOD:PUBLISH
X-MS-OLK-FORCEINSPECTOROPEN:TRUE
BEGIN:VEVENT
UID:20260424T140904CEST-0151seB0sK@BPW Neuchatel
DTSTAMP:20260424T120904Z
DESCRIPTION:\n'Séance d’information & d’échange'\n\n\nL’objectif de cette r
 encontre est de vous proposer une plateforme d’information et d’interactio
 n à laquelle chacune est invitée à contribuer\, à émettre des idées\, des 
 avis\, des critiques constructives sur le déroulement de notre club et de 
 ses futures activités. Nous aurons aussi le plaisir de lancer officielleme
 nt notre nouveau site internet et notre BDM qui nous ouvre de nombreuses p
 ossibilités d’échange\, de réseautage et de communication. \n\n\nPrésentat
 ion du projet «Fées vertes des sables» \n\n\nNous aurons aussi le plaisir 
 d'accueillir l’équipe des « Fées vertes des sables » soutenue par le BPW N
 euchâtel qui vont nous parler de leur projet et leur aventure.   \n \n\n\n
 	\n		\n			Date :      \n			8 novembre 2016\n		\n		\n			Lieu :\n			Hôtel Beau-Lac\, Neuchâtel
 \n		\n		\n			Heure :   \n			Accueil à 18h30\, début de la séance à 19h00. Fin de la 
 séance à env. 20h30\n		\n		\n			Coût :  \n			Séance & apéritif dinatoire et boissons
  : CHF 49.-\n		\n		\n			Inscription :   \n			Sur notre nouveau site internet (rubriq
 ue : Programme 2016-2017).Une confirmation d’inscription vous parviendra a
 utomatiquement par email.\n		\n		\n			Délai d’inscription :\n			5 novembre 2016\n			Att
 ention: toute annulation faite moins de 48h avant la manifestation sera du
 e.  \n		\n	\n\n \n\nDétail du programme :\n \n\n\n	Comité : rôles et responsab
 ilités (Céline)\n	Nouveau site internet : présentation & développement (Gab
 riella)\n	Programme 2017-2018 : suggestions\, souhaits et idées (toutes)\n	P
 résentation du projet « Fées vertes des sables » soutenue par le BPW Neuch
 âtel en présence des « fées »\n\n
DTSTART:20161108T183000
DTEND:20161108T213000
LOCATION:Hôtel Beau-Lac\, Neuchâtel 
ORGANIZER:MAILTO:BPW Neuchatel <info@bpw-neuchatel.ch>
SUMMARY:Séance d'échange & présentation d'un projet de soutien 
END:VEVENT
END:VCALENDAR
