BEGIN:VCALENDAR
VERSION:2.0
PRODID:-//BPW Neuchatel//NONSGML kigkonsult.se iCalcreator 2.16.12//
METHOD:PUBLISH
X-MS-OLK-FORCEINSPECTOROPEN:TRUE
BEGIN:VEVENT
UID:20260424T153503CEST-0844E9HIUZ@BPW Neuchatel
DTSTAMP:20260424T133503Z
DESCRIPTION:\nBienvenue dans le canton du Jura !\n\nC'est avec un immense p
 laisir que nous vous accueillons dans le dernier né des Cantons suisses.\n
 \nProgramme des BPW\n\n09.30 – 10.00     Café de bienvenue et enregistreme
 nts\n10.00 – 10.30     Assemblée des déléguées extraordinaire\n10.30 – 10.
 45     Pause\n10.45 – 12.30     Conférence d'automne BPW Switzerland\n12.3
 0 – 14.30     Lunch\n14.30 – 16.00     Conférence de Madame Jessica Sbarag
 lia\n16.00 – 17.00 Pause café\n\nProgramme des partenaires durant la CA\n
 \n09.30 – 10.30     Café de bienvenue et enregistrements\n10.30           
        Départ en bus pour Saint-Ursanne\n11.00 – 12.00     Visite guidée d
 e la cité médiévale\n12.00 – 13.30     Repas dans un restaurant de la plac
 e\n14.00 – 16.15     Visite du laboratoire souterrain Mont Terri\n16.30   
                Retour en bus pour Delémont\n17.00                 Arrivée 
 à Delémont\n\n18 .30                 Soirée de Gala\n\nFlyer\n\nPour réser
 ver la chambre nous vous invitons de vous rendre directement à Jura Touris
 me\, Pl. de la Gare 9\, 2800 Delémont\, T. +41 (0) 32 432 41 70\, info@jur
 atourisme.ch.\n\n 
DTSTART:20171104T000000
DTEND:20171104T235900
LOCATION:BPW Jura
ORGANIZER:MAILTO:BPW Neuchatel <info@bpw-neuchatel.ch>
SUMMARY:Conférence d’automne 
END:VEVENT
END:VCALENDAR
