BEGIN:VCALENDAR
VERSION:2.0
PRODID:-//BPW Neuchatel//NONSGML kigkonsult.se iCalcreator 2.16.12//
METHOD:PUBLISH
X-MS-OLK-FORCEINSPECTOROPEN:TRUE
BEGIN:VEVENT
UID:20260424T135818CEST-6202CISvWt@BPW Neuchatel
DTSTAMP:20260424T115818Z
DESCRIPTION:\n 
DTSTART:20170224T000000
DTEND:20170224T235900
LOCATION:tbd
ORGANIZER:MAILTO:BPW Neuchatel <info@bpw-neuchatel.ch>
SUMMARY:Equal Pay Day 2017
END:VEVENT
END:VCALENDAR
