BEGIN:VCALENDAR
VERSION:2.0
PRODID:-//BPW Neuchatel//NONSGML kigkonsult.se iCalcreator 2.16.12//
METHOD:PUBLISH
X-MS-OLK-FORCEINSPECTOROPEN:TRUE
BEGIN:VEVENT
UID:20260424T153735CEST-7514bTOZ9B@BPW Neuchatel
DTSTAMP:20260424T133735Z
DESCRIPTION:Les BPW Bâle vous souhaitent la bienvenue\n\nVendredi\, 23.06.2
 017 \; 18h00 :\n\nAlumnae-Meeting pour les (past) présidentes et membres d
 u comité central de BPW Switzerland\n\n\n	«Souviens-toi\, autrefois quand n
 ous...» - Bavardages devant la cheminée sur toi et moi et les BPW:  Nous l
 es BPW\, nous connaissons toutes les fiches signalétiques de Brigitta\, Pa
 ula et Wilma. Mais comment et à quoi le public reconnaît ces trois femmes?
  Et comment pouvons-nous les faire connaître davantage? Pour ce faire\, no
 us avons besoin d’expériences réelles et du vécu de nos anciennes présiden
 tes. C’est ainsi que nous souhaitons\, devant la cheminée en savourant un 
 bon verre de vin rouge\, ouvrir leurs coffres aux trésors et glaner des an
 ecdotes.\n\nSamedi\, 24.06.2017\n\n09h30 : Workshops sur les thèmes suivan
 ts\n\n\n	Fintech – Opportunités pour les BPW avec Florence Anglès et Beatri
 ce Lüthi: Qu’est-ce qu’une Fintech ? Evolution de la Fintech\, y compris l
 e cadre juridique. Opportunités et risques ? Comment les BPW peuvent bénéf
 icier de la Fintech et l’utiliser judicieusement ?\n	Investir – la tendance
  n’est pas toujours une alliée avec Joana Torres et Special Guest: Les fon
 dements du placement et des marchés financiers: explications claires et co
 nseils pratiques\n	Point de vue – site Web\, une vitrine numérique avec Chr
 istine Abbühl: Le site Web est l’enseigne numérique d’un club BPW. Il cons
 titue sa vitrine\, par laquelle vous vous présentez au monde extérieur. Da
 ns cet atelier\, nous abordons les points essentiels afin que votre site I
 nternet satisfasse aux besoins et aux exigences des différents groupes cib
 les – notamment ceux que vous souhaitez tout spécialement attirer.\n	Visite
  guidée à travers la galerie et le jardin de sculptures avec Claire Ochsne
 r: Jardin des sculptures de Claire Ochsner: visite guidée de la galerie et
  du magnifique jardin avec les grandes sculptures colorées et animées de C
 laire Ochsner\, suivie d’un atelier artistique\, où nous réaliserons un co
 llage avec des photos des oeuvres de l’artiste (max. 25 participantes – le
 s inscriptions sont prises en compte selon leur ordre d'arrivée.\n\n13h00 
 : Assemblée des déléguées\n \n09h30 – 17h30 : Programme partenaires - Musé
 e de l’Automobile Mulhouseée\n \nÀ partir de 18h : apéro et soirée de jubi
 lé '70 ans BPW Club Basel' avec dîner festif - modération et inspiration K
 afi Freitag\n\nFlyer\nReservation form Motel My One (english)
DTSTART:20170623T180000
DTEND:20170624T235900
LOCATION:Basel
ORGANIZER:MAILTO:BPW Neuchatel <info@bpw-neuchatel.ch>
SUMMARY:Assemblée des déléguées et Alumnae Meeting
END:VEVENT
END:VCALENDAR
