BEGIN:VCALENDAR
VERSION:2.0
PRODID:-//BPW Neuchatel//NONSGML kigkonsult.se iCalcreator 2.16.12//
METHOD:PUBLISH
X-MS-OLK-FORCEINSPECTOROPEN:TRUE
BEGIN:VEVENT
UID:20260424T135948CEST-05250JwxTA@BPW Neuchatel
DTSTAMP:20260424T115948Z
DESCRIPTION:\nVenez fêter avec vos partenaires cette fin d’année dans un li
 eu aussi magique que convivial nouvellement inauguré dans l’ancien manège 
 de La Chaux-de-Fonds.\nNotre hôtesse\, Johanna Florey\, patronne des 3 res
 taurants « Mö » et membre du BPW par ailleurs\, se fera un plaisir de nous
  faire découvrir son nouveau royaume des papilles.\n\nElle nos propose deu
 x menus: fondue Bacchus ou tagliatelles aux champignons\n\nVos conjoints s
 ont les bienvenus. \n \nDate :                   9 décembre 2016\nLieu :  
                  Rue du Manège 19   CH-2300 La Chaux-de-Fonds\nHeure :    
             Accueil à 18h30\, repas à 19h00.\nCoût :                  CHF 
 45.- (salade\, fondue\, dessert) ou  CHF 32.- (salade\, tagliatelles\, des
 sert). \n                            Les boissons du repas ne sont pas com
 prises.           \nTransport :          Pourquoi ne pas essayer de se reg
 rouper depuis Neuchâtel !\n\nInscription ci-dessous. \nUne confirmation d’
 inscription vous parviendra automatiquement par email.\nDélai d’inscriptio
 n : 1er décembre\nToute annulation faite moins de 48h avant la manifestati
 on sera due.  \n \nNous nous réjouissons de vous revoir et de fêter cette 
 belle fin d’année avec vous.  \n \nLe comité\n \n
DTSTART:20161209T183000
DTEND:20161209T223000
LOCATION:La Chaux-de-Fonds\, Rue du Manège 19
ORGANIZER:MAILTO:BPW Neuchatel <info@bpw-neuchatel.ch>
SUMMARY:Soirée de 'Möël' du BPW 
END:VEVENT
END:VCALENDAR
