BEGIN:VCALENDAR
VERSION:2.0
PRODID:-//BPW Neuchatel//NONSGML kigkonsult.se iCalcreator 2.16.12//
METHOD:PUBLISH
X-MS-OLK-FORCEINSPECTOROPEN:TRUE
BEGIN:VEVENT
UID:20260424T122845CEST-1367SFxk8E@BPW Neuchatel
DTSTAMP:20260424T102845Z
DESCRIPTION:Chères membres\,\n\nNous avons le plaisir de vous inviter à la 
 prochaine\n \n'Assemblée générale du BPW Neuchâtel'\n \nDate :            
    20 janvier 2025\n\nLieu :                Hôtel Beaulac \n\n\nHeure :   
           Accueil 17h45. Début de la séance 18h00\n\nInscription :      ci
 -dessous\n\nUne confirmation d’inscription vous parviendra automatiquement
  par email.\nDélai d’inscription : 15 janvier 2025\nToute annulation faite
  moins de 72h avant la manifestation sera due.  \n\nUne convocation person
 nelle avec ODJ ainsi que le PV de l’assemblée générale de 2024 vous sont p
 arvenus par email. 
DTSTART:20250120T180000
DTEND:20250120T213000
LOCATION:Best Western Premier - Hôtel Beaulac      
ORGANIZER:MAILTO:BPW Neuchatel <info@bpw-neuchatel.ch>
SUMMARY:Assemblée générale 
END:VEVENT
END:VCALENDAR
