BEGIN:VCALENDAR
VERSION:2.0
PRODID:-//BPW Neuchatel//NONSGML kigkonsult.se iCalcreator 2.16.12//
METHOD:PUBLISH
X-MS-OLK-FORCEINSPECTOROPEN:TRUE
BEGIN:VEVENT
UID:20260424T123011CEST-2850VC7gAA@BPW Neuchatel
DTSTAMP:20260424T103011Z
DESCRIPTION:Nous sommes ravies de proposer la conférence ‘Comment développe
 r et pérenniser son entreprise’ par Giselle Rufer\, fondatrice et directri
 ce de Delance SA.\n\nÀ propos de Giselle Rufer:\nGiselle Rufer a débuté sa
  carrière de conférencière en 1986 en acceptant de participer à des congrè
 s ayant pour sujet l’entrepreneuriat et la contribution des femmes à la vi
 e économique et sociale. En Europe\, aux USA\, en Asie et au Moyen-Orient 
 elle fut interviewée par la presse\, les radios et télévisions.\nLors de s
 es interventions\, elle aime à impliquer son audience dans le déroulement 
 de la conférence.\n\nÀ propos de la présentation ‘Comment développer et pé
 renniser son entreprise’ :\nGiselle Rufer crée la montre Delance pour les 
 femmes dans les années 90. Elle souhaite offrir aux femmes une montre excl
 usivement féminine. Mais aussi parce qu’elle désire soutenir activement le
  leadership et l’entreprenariat des femmes à travers le monde. Giselle rac
 onte avec humour et sincérité des anecdotes personnelles\, parle avec son 
 cœur de manière simple et imagée. Elle touche ainsi le cœur de son audienc
 e et crée une complicité amicale et humaine propice à l’échange. En juille
 t 2023\, à TEDx Geneva\, elle partage un moment important dans sa décision
  de créer DELANCE SA. Nous nous réjouissons de l’avoir parmi nous pendant 
 toute une soirée tant que conférencière\, toute en soulignant quelle est n
 otre membre !\n\nDétails de l'événement :\n\n•              Date : Mercred
 i le 30 Avril 2025\n•              Horaire : 18h30 – Accueil \; 19h à 19h5
 0 – Conférence \; 20h - Réseautage au Waves\n•              Lieu : Best We
 stern Premier Hotel Beaulac - 2 Esplanade Léopold-Robert\, 2000 Neuchâtel-
 NE\n•              Format : Présentation suivie d'une session de questions
 -réponses.\n•              Prix : 55 CHF pour les membres \; 66 CHF pour l
 es non-membres\n\nLes inscriptions sont ouvertes jusqu’au 28 Avril 2025 su
 r notre site web.\n 
DTSTART:20250430T180000
DTEND:20250430T213000
LOCATION:Best Western Premier Hotel Beaulac - 2 Esplanade Léopold-Robert\, 
 2000 Neuchâtel-NE
ORGANIZER:MAILTO:BPW Neuchatel <info@bpw-neuchatel.ch>
SUMMARY:BPW Neuchâtel -  ‘Comment développer et pérenniser son entreprise’ 
 avec Giselle Rufer
END:VEVENT
END:VCALENDAR
