BEGIN:VCALENDAR
VERSION:2.0
PRODID:-//BPW Neuchatel//NONSGML kigkonsult.se iCalcreator 2.16.12//
METHOD:PUBLISH
X-MS-OLK-FORCEINSPECTOROPEN:TRUE
BEGIN:VEVENT
UID:20260424T123016CEST-5615CRtmvX@BPW Neuchatel
DTSTAMP:20260424T103016Z
DESCRIPTION:Prochaine manifestation- BPW Neuchâtel\n\n « Les femmes en poli
 tique neuchâteloise »\, présenté par Madame Florence Nater.\n \n Nous auro
 ns le plaisir d’accueillir Florence Nater :\nConseillère d'État et cheffe 
 du Département de l’emploi et de la cohésion sociale\, Florence Nater s’es
 t engagée dans la vie politique en parallèle à sa carrière dans le domaine
  de la santé psychique. Élue députée au Grand Conseil en 2013\, elle devie
 nt Conseillère d’État en 2021 et est candidate à sa réélection au printemp
 s. Depuis le début de son mandat\, elle privilégie une démarche participat
 ive pour alimenter l’élaboration de politiques publiques en faveur de l’em
 ploi et de la cohésion sociale. Elle préside la Fondation CH depuis 2022.
 \n\nÀ propos de la présentation « Les femmes en politique neuchâteloise » 
 :\nSi notre canton a constaté un engagement toujours croissant des femmes 
 en politique\, la participation des femmes doit encore être encouragée afi
 n d’assurer une représentation équitable de la population et la mise en œu
 vre de politiques inclusives répondant aux besoins de toute la société. So
 utien institutionnel en faveur de la conciliation vies privée\, profession
 nelle et politique\, visibilisation des femmes dans l’espace public et lut
 te contre les discriminations\, des mesures sont et doivent continuer à êt
 re mises en place.\n\n Détails de l'événement :\n\n    Date : Jeudi le 20 
 février 2025\n    Horaire : 18h30 – Accueil \; 19h à 19h50 – Conférence \;
  20h - Réseautage au Waves\n    Lieu : Best Western Premier Hotel Beaulac 
 - 2 Esplanade Léopold-Robert\, 2000 Neuchâtel-NE\n    Format : Présentatio
 n par Mme Nater\, suivie d'une session de questions-réponses.\n    Prix : 
 55 CHF pour les membres \; 66 CHF pour les non-membres\n\n\nInscription : 
       ci-dessous\n\nUne confirmation d’inscription vous parviendra automat
 iquement par email.\n\nDélai d’inscription : 17 février 2025\n\nToute annu
 lation faite moins de 48h avant la manifestation sera due. \n 
DTSTART:20250220T183000
DTEND:20250220T223000
LOCATION:Best Western Premier Hotel Beaulac - 2 Esplanade Léopold-Robert\, 
 2000 Neuchâtel-NE
ORGANIZER:MAILTO:BPW Neuchatel <info@bpw-neuchatel.ch>
SUMMARY:BPW Neuchâtel -   « Les femmes en politique neuchâteloise »\, prése
 nté par Madame Florence Nater
END:VEVENT
END:VCALENDAR
