BEGIN:VCALENDAR
VERSION:2.0
PRODID:-//BPW Neuchatel//NONSGML kigkonsult.se iCalcreator 2.16.12//
METHOD:PUBLISH
X-MS-OLK-FORCEINSPECTOROPEN:TRUE
BEGIN:VEVENT
UID:20260424T153513CEST-1889ez0iwO@BPW Neuchatel
DTSTAMP:20260424T133513Z
DESCRIPTION:\nDurant cette soirée\, Radovan Savic va nous faire découvrir l
 e Krav Maga et des premières techniques de self-défense. Le Krav Maga est 
 un sport de combat mélangeant diverses techniques de sports et d’arts mart
 iaux. De nombreux groupes d’intervention et d’armées l’enseignent et le pr
 atiquent.\n \nGabriel Winkler de gobaster Sàrl va également nous faire déc
 ouvrir des armes et nous informer sur les tendances de leur utilisation en
  Suisse.\n \n\nDate :                             Mardi\, 5 septembre 2017
  \nLieu :                              Rue des Champs-Montants 12c\nLieu d
 u rendez-vous :    2ème étage – Salle d’entrainement   \nEquipement :     
              Vêtements décontractés – chaussures plates - pas de talons\n 
 \nHeure :                           18h30 – 20h00 : initiation au Krav Mag
 a\n                                       20h30 : repas dinatoire au resta
 urant Terzopiano\n                                       21h30 : fin de la
  manifestation\n \nCoût :                             Offert par le BPW Ne
 uchâtel aux membres uniquement\n \nInscription :                  ci-desso
 us. \n\nUne confirmation d’inscription vous parviendra automatiquement par
  email.\nDélai d’inscription : 30 août 2017\nAnnulations : au plus tard 48
 h avant la manifestation.  \n \n 
DTSTART:20170905T183000
DTEND:20170905T213000
LOCATION:Marin (NE)
ORGANIZER:MAILTO:BPW Neuchatel <info@bpw-neuchatel.ch>
SUMMARY:BPW Neuchâtel - 'Self-défense pour femmes'  
END:VEVENT
END:VCALENDAR
