BEGIN:VCALENDAR
VERSION:2.0
PRODID:-//BPW Neuchatel//NONSGML kigkonsult.se iCalcreator 2.16.12//
METHOD:PUBLISH
X-MS-OLK-FORCEINSPECTOROPEN:TRUE
BEGIN:VEVENT
UID:20260424T155626CEST-0909cbohBF@BPW Neuchatel
DTSTAMP:20260424T135626Z
DESCRIPTION:Conférence\n \nChères membres\,\nNous avons le plaisir de vous 
 inviter à notre prochaine conférence sur la santé au travail\n \n'Gestion 
 du risque RH : un voyage au cœur du l’ADN organisationnelle'\n \nElle nous
  est proposée par Madame Carole Gilli\, Psychologue du travail FSP et Risk
  consultant HRRM chez Kessler Consulting SA\n \nDate :               Jeudi
 \, 26 octobre 2017\n \nLieu :                Hôtel Beaulac à Neuchâtel  \n
 \n\nHeure :             18h30 : conférence et discussion\n                
         20h30 : repas dinatoire\n \nCoût :               Séance & apéritif
  dinatoire et boissons : CHF 49.-\n \nInscription :       ci-dessous\n\nUn
 e confirmation d’inscription vous parviendra automatiquement par email.\nD
 élai d’inscription : 18 octobre\n\nAnnulations : au plus tard 48h avant la
  manifestation.  \n \n\n \n 
DTSTART:20171026T183000
DTEND:20171026T223000
LOCATION:Neuchâtel\, Hôtel Beaulac
ORGANIZER:MAILTO:BPW Neuchatel <info@bpw-neuchatel.ch>
SUMMARY:BPW Neuchâtel - Conférence et débat : 'Gestion de la santé en entre
 prise' 
END:VEVENT
END:VCALENDAR
