BEGIN:VCALENDAR
VERSION:2.0
PRODID:-//BPW Neuchatel//NONSGML kigkonsult.se iCalcreator 2.16.12//
METHOD:PUBLISH
X-MS-OLK-FORCEINSPECTOROPEN:TRUE
BEGIN:VEVENT
UID:20260424T160218CEST-3820vhV9wV@BPW Neuchatel
DTSTAMP:20260424T140218Z
DESCRIPTION:\nVenez passer une soirée décontractée de fin d’année dans un l
 ieu convivial et chargé d’histoire à l’.ESPACE.MARTINI. (brocante) à St Bl
 aise.  \n \nNotre hôte\, Bertrand Lambelet\,  nous accueillera dans son ro
 yaume d’antiquités\, d’objets\, de bibelots de toutes sortes tout en prena
 nt soin de nos papilles.\n \nAu programme :\n\n	Séance d’information et d’é
 changes\n	Apéro – animation « Réseautage »\n	Repas salade mêlée\, jambon à l
 'os\, haricots verts - blanc-manger au coulis de framboises \n\n\nLieu et 
 date :     Mercredi\, 29 novembre 2017\, Rue de la Musinière 15\, St. Blai
 se\nHeure :             Accueil à 18h30\, repas à 19h00.\nCoût :          
      CHF 40.- (apéro et repas)\n                         Les boissons du r
 epas ne sont pas comprises.  \n\n\nDélai d’inscription : 24 novembre\nTout
 e annulation faite moins de 48h avant la manifestation sera due.  \n \nNou
 s nous réjouissons de vous revoir et de fêter cette belle fin d’année avec
  vous.  \n\nLe comité\n \n\n 
DTSTART:20171129T183000
DTEND:20171129T223000
LOCATION:Brocante\, St. Blaise 
ORGANIZER:MAILTO:BPW Neuchatel <info@bpw-neuchatel.ch>
SUMMARY:BPW Neuchâtel - Soirée de fin d'année 
END:VEVENT
END:VCALENDAR
