BEGIN:VCALENDAR
VERSION:2.0
PRODID:-//BPW Neuchatel//NONSGML kigkonsult.se iCalcreator 2.16.12//
METHOD:PUBLISH
X-MS-OLK-FORCEINSPECTOROPEN:TRUE
BEGIN:VEVENT
UID:20260424T142344CEST-7323isx1vx@BPW Neuchatel
DTSTAMP:20260424T122344Z
DESCRIPTION:Vous caressez l'idée de vous engager au sein du Comité? Vous êt
 es déjà membre du Comité\, mais aimeriez en savoir davantage sur l'associa
 tion et les possibilités que les BPW vous offrent? Vous souhaitez rencontr
 er des femmes de toute la Suisse qui se donnent corps et âme pour les BPW?
  Alors venez rejoindre l'atelier de motivation destiné aux membres du Comi
 té potentielles\, organisé à Olten le 14 janvier.\n\n 
DTSTART:20170114T100000
DTEND:20170114T170000
LOCATION:Hotel Restaurant Astoria
ORGANIZER:MAILTO:BPW Neuchatel <info@bpw-neuchatel.ch>
SUMMARY:Workshop de motivation pour le travail de comité
END:VEVENT
END:VCALENDAR
