BEGIN:VCALENDAR
VERSION:2.0
PRODID:-//BPW Neuchatel//NONSGML kigkonsult.se iCalcreator 2.16.12//
METHOD:PUBLISH
X-MS-OLK-FORCEINSPECTOROPEN:TRUE
BEGIN:VEVENT
UID:20260424T153524CEST-4250X2bXnV@BPW Neuchatel
DTSTAMP:20260424T133524Z
DESCRIPTION:C’est l’occasion pour les présidentes nouvellement élues de rec
 evoir les principales informations pour l’exercice de leur fonction.\n\npl
 an de situation de l'hôtel Astoria à Olten 
DTSTART:20170401T100000
DTEND:20170401T170000
LOCATION:Hotel Restaurant Astoria\, Olten
ORGANIZER:MAILTO:BPW Neuchatel <info@bpw-neuchatel.ch>
SUMMARY:Formation des présidentes
END:VEVENT
END:VCALENDAR
