BEGIN:VCALENDAR
VERSION:2.0
PRODID:-//BPW Neuchatel//NONSGML kigkonsult.se iCalcreator 2.16.12//
METHOD:PUBLISH
X-MS-OLK-FORCEINSPECTOROPEN:TRUE
BEGIN:VEVENT
UID:20260424T153737CEST-4751L6Gw30@BPW Neuchatel
DTSTAMP:20260424T133737Z
DESCRIPTION:The next YBPW symposium in Rome will be held from the 21st unti
 l the 23rd of April.\n\nSymposium Agenda
DTSTART:20170421T000000
DTEND:20170423T235900
LOCATION:Rome
ORGANIZER:MAILTO:BPW Neuchatel <info@bpw-neuchatel.ch>
SUMMARY:YBPW Symposium
END:VEVENT
END:VCALENDAR
