BEGIN:VCALENDAR
VERSION:2.0
PRODID:-//BPW Neuchatel//NONSGML kigkonsult.se iCalcreator 2.16.12//
METHOD:PUBLISH
X-MS-OLK-FORCEINSPECTOROPEN:TRUE
BEGIN:VEVENT
UID:20260424T160126CEST-7635982eWC@BPW Neuchatel
DTSTAMP:20260424T140126Z
DESCRIPTION: \n\nChères membres\,\n\nNous avons le plaisir de vous inviter 
 à notre prochaine soirée réseautage interclubs mixte (BPW\, Kiwanis\, Lion
 s\, Table Ronde\, Rotary). Nous nous retrouvons pour une soirée décontract
 ée à la Boissonerie.\nAu plaisir de vous revoir.\nLe comité\n\n\nDétails :
 \n\nDate : 28 juin 2018 (remplace celle du 14.6)\n\nLieu : A la « La Boiss
 onnerie »\, Rue de Neubourg 30\, Neuchâtel\nHeure : dès 18h30\n\nCoût : CH
 F 35.- (apéritif dinatoire\, vin blanc et rosé\, eau)\n\nInscription : Sur
  notre site internet. Celles qui s’étaient inscrites à la soirée du 14.6\,
  merci de vous inscrire à nouveau. Merci !\nUne confirmation d’inscription
  vous parviendra automatiquement par email.\n\nDélai d’inscription : 27.6
DTSTART:20180628T183000
DTEND:20180628T223000
LOCATION:Lounge Bar Casino\, Neuchâtel
ORGANIZER:MAILTO:BPW Neuchatel <info@bpw-neuchatel.ch>
SUMMARY:BPW Neuchâtel - Soirée 'Réseautage Interclub Mixte' 
END:VEVENT
END:VCALENDAR
