BEGIN:VCALENDAR
VERSION:2.0
PRODID:-//BPW Neuchatel//NONSGML kigkonsult.se iCalcreator 2.16.12//
METHOD:PUBLISH
X-MS-OLK-FORCEINSPECTOROPEN:TRUE
BEGIN:VEVENT
UID:20260424T153736CEST-9594o8p30v@BPW Neuchatel
DTSTAMP:20260424T133736Z
DESCRIPTION:\nL’objectif de cette rencontre est de vous proposer un moment 
 de détente\, de convivialité et de réseautage dans un cadre charmant et ac
 cueillant. \n \nDate :               5 octobre 2017\n\nLieu :             
   La Boissonnerie\, Rue du Neubourg 30 (sous la Désobéissance)\, Neuchâtel
 \n                         \nwww.boissonnerie.ch\n\nHeure :             Dè
 s 18h30\n\nCoût :               Forfait apéro (vin et tapas) : CHF 30.- pa
 yable sur place.\n\nInscription :       ci-dessous.\n\nUne confirmation d’
 inscription vous parviendra automatiquement par email.\nDélai d’inscriptio
 n : mardi 3 octobre\nToute annulation faite moins de 48h avant la manifest
 ation sera due.  \n \nNous nous réjouissons de vous revoir et de passer ce
  moment de partage avec vous.  \n \nLe comité\n \n 
DTSTART:20171005T183000
DTEND:20171005T223000
LOCATION:A définir
ORGANIZER:MAILTO:BPW Neuchatel <info@bpw-neuchatel.ch>
SUMMARY:BPW Neuchâtel - Soirée 'Afterwork-réseautage'  
END:VEVENT
END:VCALENDAR
