BEGIN:VCALENDAR
VERSION:2.0
PRODID:-//BPW Neuchatel//NONSGML kigkonsult.se iCalcreator 2.16.12//
METHOD:PUBLISH
X-MS-OLK-FORCEINSPECTOROPEN:TRUE
BEGIN:VEVENT
UID:20260424T154542CEST-8852TDz0DI@BPW Neuchatel
DTSTAMP:20260424T134542Z
DESCRIPTION:«Allegra» et cordiale bienvenue dans les Grisons chez les BPW C
 lub Chur\n \n\nProgramme\n\nVendredi\, 01.06.2018 \; 18h00 – 22h00 :\n\nAl
 umnae Meeting\nLes présidentes des clubs BPW\, anciennes et actuelles\, ai
 nsi que les membres du Comité central\, actives et anciennes\, se rencontr
 ent la veille de l’AD.\n\nUne «discussion au coin du feu» avec Joana Torre
 s et Julia Kalenberg vous permettra de vous familiariser avec le thème cap
 ital des affiliations d’entreprises. Au cours de ces derniers mois\, une T
 ask Force Instruments a été mise en place afin de recruter des membres d’e
 ntreprises en tant que partenaires stratégiques des BPW. Nous sommes conva
 incues que vous\, en tant qu’ancienne ou que nouvelle présidente\, dispose
 z d’un bon réseau de contacts et que vous pouvez par conséquent contribuer
  à l’acquisition de membres d’entreprises. Nous nous réjouissons de recevo
 ir vos idées!\n\nEnsuite apéro et menu d’été léger\n\nSamedi\, 02.06.2018
 \n\nDès 09h30 : Accueil\, enregistrement\, café de bienvenue\n\n10h00 – 11
 h45 : Workshops sur les thèmes suivants\n\n\nWorkshop 1+3 sont complets\n
 \n\n	Personne\, Perspective & Passion – gagnante avec votre profil !\n	La pe
 tite différence de salaire n'est pas un problème\, déclare mon mari» – et 
 autres faits alternatifs\n	Médias sociaux – comment l’utiliser au mieux pou
 r nos clubs\n\nEn parallèle aux ateliers : Helpdesk pour toute question re
 lative au site Internet et à la banque de données\n\n12h00 – 13h00 : Lunch
 \n\n13h30 – 17h30 : Assemblée des déléguées\n\nGala alpin est complet\n19h
 00 – 24h00 : Apéro et Gala alpin\nFête d'anniversaire avec dîner festif et
  avec accompagnement musical de Jörg Gujan\n\nProgramme partenaires 2 – Le
  monde fascinant de la viande des Grisons\nInscription jusqu’au 16 avril\n
 10h00 – 11h45 : Workshop «Changement de la culture d’entreprise»\n12h00 – 
 13h00 : Lunch\n14h30 – 16h30 : Visite de l’entreprise de salaison Brügger 
 Parpan avec apéro et dégustation\n\nInvitation et plus d'informations\n 
DTSTART:20180602T090000
DTEND:20180603T170000
LOCATION:Lenzerheide
ORGANIZER:MAILTO:BPW Neuchatel <info@bpw-neuchatel.ch>
SUMMARY:Assemblée des déléguées 2018
END:VEVENT
END:VCALENDAR
