BEGIN:VCALENDAR
VERSION:2.0
PRODID:-//BPW Neuchatel//NONSGML kigkonsult.se iCalcreator 2.16.12//
METHOD:PUBLISH
X-MS-OLK-FORCEINSPECTOROPEN:TRUE
BEGIN:VEVENT
UID:20260424T154513CEST-35619P2sHj@BPW Neuchatel
DTSTAMP:20260424T134513Z
DESCRIPTION:Organisation : BPW Club Langenthal-Huttwil\n\nSamedi\, 27 octob
 re 2018\nCréation Baumann & Restaurant Bären à Langenthal\n\nBienvenue en 
 Haute-Argovie\n\n«Geit dr Luft oder goot dr Wind?»\nA l’image de son langa
 ge varié et coloré\, la Haute-Argovie est un monde de contrastes chatoyant
 s et harmonieux\, où la diversité et l’individualité sont source d'inspira
 tion et de convivialité. Ici\, c’est l'idylle rurale aux portes de la peti
 te ville palpitante\; les artisans y sont devenus des entrepreneurs et les
  bourgades agricoles endormies\, des communes résidentielles attrayantes. 
 On y cultive la tradition et préserve l’esprit du temps\; mais la rusticit
 é se mêle aussi à la nouveauté.\nLa région de Haute-Argovie comprend 46 co
 mmunes nichées entre les collines de la première chaîne du Jura et l’Emmen
 tal\, et compte quelques 80 000 habitants. Bien que l’influence des canton
 s limitrophes de Soleure\, Argovie et Lucerne reste tangible\, la Haute-Ar
 govie peut toutefois s’épanouir avec sa propre authenticité de «pays dans 
 la région supérieure de l’Aar». Découvrez avec nous la Haute-Argovie et vi
 vez une journée inoubliable à Langenthal\, le cœur palpitant de notre régi
 on.\n \n\n	\n		\n			Programme\n			 \n		\n		\n			Programme de la journée\n			 \n		\n		\n			9h30 - 10h
 15\n			Arrivée des participants\, café de bienvenue etenregistrement chez Cré
 ation Baumann\n		\n		\n			10h15 - 11h00\n			Accueil par les BPW Langenthal-Huttwil\n
 			Mot de bienvenue de Philipp Baumann\, CEO Création Baumann\n			Message de bie
 nvenue de la conseillère d'Etat Béatrice Simon (PBD)\n			Message de bienvenue
  de la présidente centrale BPW Elisabeth Bosshart\n		\n		\n			11h00 - 12h30\n			Conf
 érence d’automne BPW Switzerland\n		\n		\n			12h30 - 14h30\n			Lunch\n		\n		\n			14h30 - 17
 h00\n			«Feinstoffliche Kommunikation» /«Communication subtile»: Introduction
 /présentation Béatrice Müller\n			Suivi par des ateliers d’approfondissement 
 sur le thème\n		\n		\n			17h00 - 18h00\n			Transfert de Création Baumann vers\n			Hôtel
  Bären à Langenthal\n		\n		\n			 \n			 \n		\n		\n			Programme pour partenaires\n			 \n		\n		\n			09h3
 0 - 10h00\n			Arrivée des participants au théâtre municipal\, café de bienven
 ue et enregistrement\n		\n		\n			10h00 - 11h45\n			Visite guidée des lieux avec l’in
 tendant Reto Lang\n		\n		\n			11h45 - 14h00\n			Apéro et déjeuner\n		\n		\n			14h20\n			Voyage
  en train Langenthal Gare–Industrie Nord\n		\n		\n			14h30 - 16h30\n			Visite et exp
 osé Peter Regenass\, CEO Motorex AG\, y compris apéro\n		\n		\n			16h36 et 17h01
 \n			Retour en train Industrie Nord-Langenthal Gare\, promenade à travers la 
 ville jusqu’au Restaurant Bären\n		\n		\n			 \n			 \n		\n		\n			Soirée de gala\n			 \n		\n		\n			18h0
 0\n			Apéro\, suivi par la soirée de gala et les célébrations de l’anniversai
 re des BPW Langenthal-Huttwil.\n		\n	\n\n\n\nFlyer\n\nLes sponsors d'or:\n   
   \n\n    \n\nLes sponsors d'argent et bronze
DTSTART:20181027T000000
DTEND:20181027T235900
LOCATION:Langenthal
ORGANIZER:MAILTO:BPW Neuchatel <info@bpw-neuchatel.ch>
SUMMARY:Conférence d'automne 2018
END:VEVENT
END:VCALENDAR
