BEGIN:VCALENDAR
VERSION:2.0
PRODID:-//BPW Neuchatel//NONSGML kigkonsult.se iCalcreator 2.16.12//
METHOD:PUBLISH
X-MS-OLK-FORCEINSPECTOROPEN:TRUE
BEGIN:VEVENT
UID:20260424T153524CEST-7092fprlWk@BPW Neuchatel
DTSTAMP:20260424T133524Z
DESCRIPTION: \n\nLe 24 mars 2008 le BPW suisse organisait la 1ère manifesta
 tion Equal Pay Day sous la forme d’une journée nationale mettant en lumièr
 e l’écart salarial de 21% entre femme et homme dans notre pays et dénonçan
 t ainsi cet écart anticonstitutionnel.\nLe Business and Professional Women
  (BPW) Club de Neuchâtel a été l’un des pionniers en la matière en organis
 ant diverses manifestations lors de l’Equal Pay Day.\n\n10 ans plus tard\,
  quelle est la situation en la matière ? A combien s’élève cet écart salar
 ial aujourd’hui ?\n\nUne table-ronde suivie d’un débat sera organisée auto
 ur de cette question afin d’établir l’état des lieux avec des représentant
 s fédéraux\, cantonaux\, communaux et du monde économique le\n\n\nvendredi
  23 février 2018\n\n18h30 à 20h30 au Casino de Neuchâtel\nFaubourg du Lac 
 14 au lounge bar du du 1er étage\n\n\n \n\nProgramme :\n \n\n18h30 : mot d
 e bienvenue et présentation des orateurs Souad Hachler \n\n\n	Raphaël Comte
  Conseiller aux Etats\, Confédération\n	Florence Nater Députée au grand Con
 seil\, Neuchâtel\n	Violaine Blétry-de Montmollin Conseillère Communale\, vi
 lle de Neuchâtel\n	Philippe Grize Directeur Haute Ecole Arc Ingénierie\, Ne
 uchâtel\n	David Storrer\, Directeur financier et administrateur de Coloral.
  SA\, Neuchâtel\n\n\nMédiatrice : Nicole Baur Cheffe du Bureau de l'Egalit
 é et de la famille Neuchâtel\n\n\n19h10 : questions-réponses\n19h30-20h30 
 : apéritif dînatoire\n \n\nInscriptions auprès de Souad Hachler\, responsa
 ble Equal Pay Day et vice-présidente BPW Neuchâtel : hachlers@hotmail.com
 \n\nEn raison des places limitées\, les inscriptions seront retenues dans 
 l’ordre chronologique. \nDélai d’inscription : 21 février 2017\n
DTSTART:20180223T183000
DTEND:20180223T210000
LOCATION:Lounge Bar Casino\, Neuchâtel
ORGANIZER:MAILTO:BPW Neuchatel <info@bpw-neuchatel.ch>
SUMMARY:BPW Neuchâtel - Equal Pay Day 
END:VEVENT
END:VCALENDAR
