BEGIN:VCALENDAR
VERSION:2.0
PRODID:-//BPW Neuchatel//NONSGML kigkonsult.se iCalcreator 2.16.12//
METHOD:PUBLISH
X-MS-OLK-FORCEINSPECTOROPEN:TRUE
BEGIN:VEVENT
UID:20260424T153405CEST-3641Ztd5E2@BPW Neuchatel
DTSTAMP:20260424T133405Z
DESCRIPTION:\nGrâce à notre membre Estelle Oury\, nous avons le plaisir de 
 vous inviter à notre prochaine visite du site de production   \n\n'PMI – P
 hilip Morris International ' \n\n\nde Neuchâtel. Un article vient d’ailleu
 rs de paraître sur EntrepriseNE\n \nInformations importantes :  \n\nCe typ
 e de visite est rare\, exclusif et difficile à organiser. De ce fait\, les
  conditions d’inscription et de participation sont assez strictes :\n \n\n
 \n	Inscription impérative au plus vite et jusqu’au 25 mai au plus tard\n	Gro
 upes de 6 personnes (3 groupes au maximum par ordre d’inscription)\n	Pas d’
 annulation possible\, sauf cas de force majeure\n	Les noms des participante
 s et de leurs employeurs seront communiqués à PMI\n	Une pièce d’identité do
 it être présentée pour accéder au site\n	Lors de la visite\, il faudra mett
 re des chaussures de sécurité fournies sur place (prévoir des chaussettes)
 \n\n\n \nDate :             12 juin 2017\n\nLieu :               \nSite PM
 I – Neuchâtel (parking parc & ride public\, payant \; tourner à droite jus
 te avant le premier bâtiment R&D \; ne pas passer le poste de sécurité !).
 \nLe plan d'accès vous est parvenu par email. \n\nHeure :            \nAcc
 ueil à 11h45 au poste de sécurité de l’usine (sur le plan d’accès en annex
 e « PMPSA réception »\, en rouge). Visite à 12h00-13h30 (pas la possibilit
 é de rejoindre plus tard ou de partir avant la fin).  \n\nCoût :          
     \nVisite gratuite \; pas de restauration prévue\n\nInscription :      
  ci-dessous \n\nUne confirmation d’inscription vous parviendra automatique
 ment par email.\nDélai d’inscription : inscription plus possible\n \nNous 
 nous réjouissons de vous revoir et de passer ce moment de partage avec vou
 s.  \n\nLe comité\n \n
DTSTART:20170612T114500
DTEND:20170612T133000
LOCATION:Neuchâtel\, Serrière 
ORGANIZER:MAILTO:BPW Neuchatel <info@bpw-neuchatel.ch>
SUMMARY:BPW Neuchâtel - Visite de PMI 
END:VEVENT
END:VCALENDAR
