BEGIN:VCALENDAR
VERSION:2.0
PRODID:-//BPW Neuchatel//NONSGML kigkonsult.se iCalcreator 2.16.12//
METHOD:PUBLISH
X-MS-OLK-FORCEINSPECTOROPEN:TRUE
BEGIN:VEVENT
UID:20260424T172926CEST-0371aWl11c@BPW Neuchatel
DTSTAMP:20260424T152926Z
DESCRIPTION:\n\nThe XXX BPW International Congress „BPW International in Or
 lando\, Florida\, USA from 21 – 26 August 2020\n\nAll BPW member are invit
 ed to visit the XXX BPW International Congress at the Hilton Orlando Lake 
 BuenaVista Hotel in Orlando Florida\, 1751 Hotel Plaza Blvd. Lake Buena Vi
 sta\, Florida\, USA.\n\nThis congress will be historical as it will mark t
 he 90th Anniversary of BPW International.\n\nOnline Congress registration 
 will officially open on 10 February 2020.\n\nAll the informations regardig
  congress will be at the Orlando Congress website.\n\n\n
DTSTART:20200821T000000
DTEND:20200826T235900
LOCATION:Orlando (Florida)\, Hilton Hotel Lake Buena Vista
ORGANIZER:MAILTO:BPW Neuchatel <info@bpw-neuchatel.ch>
SUMMARY:XXX BPW INTERNATIONAL CONGRESS
END:VEVENT
END:VCALENDAR
