BEGIN:VCALENDAR
VERSION:2.0
PRODID:-//BPW Neuchatel//NONSGML kigkonsult.se iCalcreator 2.16.12//
METHOD:PUBLISH
X-MS-OLK-FORCEINSPECTOROPEN:TRUE
BEGIN:VEVENT
UID:20260424T173406CEST-4544ZEcVMf@BPW Neuchatel
DTSTAMP:20260424T153406Z
DESCRIPTION:\nPlease find all information and the registration on this link
 .\n\n\n\n 
DTSTART:20190524T000000
DTEND:20190526T235900
LOCATION:Galway (Irlande)
ORGANIZER:MAILTO:BPW Neuchatel <info@bpw-neuchatel.ch>
SUMMARY:16th BPW European Conference Galway 2019
END:VEVENT
END:VCALENDAR
