BEGIN:VCALENDAR
VERSION:2.0
PRODID:-//BPW Neuchatel//NONSGML kigkonsult.se iCalcreator 2.16.12//
METHOD:PUBLISH
X-MS-OLK-FORCEINSPECTOROPEN:TRUE
BEGIN:VEVENT
UID:20260424T154949CEST-4662sPRtaM@BPW Neuchatel
DTSTAMP:20260424T134949Z
DESCRIPTION:Etes-vous intéressée par les trucs et astuces permettant de man
 ier le site Web et la base de données des membres? Comment créer une nouve
 lle? Comment saisir une nouvelle membre dans le système? Comment créer une
  newsletter? Toutes les infos à ce sujet le 13 avril 2018.\n\nplan de situ
 ation de l'hôtel Astoria à Olten 
DTSTART:20180413T133000
DTEND:20180413T173000
LOCATION:Hotel Astoria Olten
ORGANIZER:MAILTO:BPW Neuchatel <info@bpw-neuchatel.ch>
SUMMARY:Formation pour site Internet et banque de données
END:VEVENT
END:VCALENDAR
