BEGIN:VCALENDAR
VERSION:2.0
PRODID:-//BPW Neuchatel//NONSGML kigkonsult.se iCalcreator 2.16.12//
METHOD:PUBLISH
X-MS-OLK-FORCEINSPECTOROPEN:TRUE
BEGIN:VEVENT
UID:20260424T160039CEST-5045Pa9swF@BPW Neuchatel
DTSTAMP:20260424T140039Z
DESCRIPTION:Chères membres\,\n\nNous avons le plaisir de vous inviter à la 
 prochaine\n \n'Assemblée générale du BPW Neuchâtel'\n \nDate :            
    23 janvier 2018\n\nLieu :                Restaurant du Poisson\, Auvern
 ier\n\nHeure :             Accueil 18h30. Début de la séance 19h00\n\nCoût
  :               Séance\, repas et boissons (vin\, eau\, café) : CHF 49.-
 \n\nInscription :      ci-dessous\n\nUne confirmation d’inscription vous p
 arviendra automatiquement par email.\nDélai d’inscription : 19 janvier 201
 8\nToute annulation faite moins de 48h avant la manifestation sera due.  
 \n\nL’agenda ainsi que le PV de l’assemblée générale de 2017 vous parviend
 ra ultérieurement. 
DTSTART:20180123T183000
DTEND:20180123T223000
LOCATION:Restaurant du Poisson\, Auvernier 
ORGANIZER:MAILTO:BPW Neuchatel <info@bpw-neuchatel.ch>
SUMMARY:Assemblée générale 
END:VEVENT
END:VCALENDAR
