BEGIN:VCALENDAR
VERSION:2.0
PRODID:-//BPW Neuchatel//NONSGML kigkonsult.se iCalcreator 2.16.12//
METHOD:PUBLISH
X-MS-OLK-FORCEINSPECTOROPEN:TRUE
BEGIN:VEVENT
UID:20260424T153637CEST-4968bIDZhu@BPW Neuchatel
DTSTAMP:20260424T133637Z
DESCRIPTION:Invitation conférence- BPW Neuchâtel\n\nConférence-débat-activi
 té animée par Griselda Naumann du BPW Suisse sur le thème du\n\n'Mentorat 
 '\n\nAprès la présentation nous vous proposons une activité appelée le « c
 arrousel speed dating » entre mentas et mentee.\nVenez découvrir…\n\nC’est
  une méthode dynamique et originale de mise en relation entre l’offre et l
 a demande de mentoring.\n\nDate : 15 mars 2018\nLieu : Lounge Bar du Casin
 o de Neuchâtel\nHeure : accueil : 18h30 – conférence 19h00 suivie du repas
 \nCoût : CHF 42.- apéro et repas (merci de prendre le compte exacte)\n\nIn
 scription : Sur notre site internet (rubrique : Programme 2017-2018).\nUne
  confirmation d’inscription vous parviendra automatiquement par email.\n\n
 Délai d’inscription : 14.3 à midi\nAnnulation: au plus tard 24 heures avan
 t la manifestation\, sinon le montant est dû. \n\n\nNous nous réjouissons 
 de vous revoir et de passer ce moment de partage avec vous.\nLe comité
DTSTART:20180315T183000
DTEND:20180315T223000
LOCATION:Lounge Bar Casino\, Neuchâtel
ORGANIZER:MAILTO:BPW Neuchatel <info@bpw-neuchatel.ch>
SUMMARY:BPW Neuchâtel - Conférence : 'Mentorat'  
END:VEVENT
END:VCALENDAR
