BEGIN:VCALENDAR
VERSION:2.0
PRODID:-//BPW Neuchatel//NONSGML kigkonsult.se iCalcreator 2.16.12//
METHOD:PUBLISH
X-MS-OLK-FORCEINSPECTOROPEN:TRUE
BEGIN:VEVENT
UID:20260424T154512CEST-9716TdVw5z@BPW Neuchatel
DTSTAMP:20260424T134512Z
DESCRIPTION:\n\nProchaine conférence donnée par Georges Torti sur un thème 
 lié à la cybercriminalité\n\n'La sécurité de l’information pour les manage
 rs '\n\nQuelle que soit sa taille\, une PME doit prendre conscience qu’ell
 e peut être à tout moment confrontée à la cybercriminalité. Qu’il s’agisse
 \, par exemple\, de malveillances visant à la destruction de données ou d’
 espionnage économique\, les conséquences des attaques informatiques pour l
 es entreprises sont généralement désastreuses et peuvent impacter leur pér
 ennité. Les directeurs doivent comprendre et appréhender la cyber sécurité
  comme un problème de gestion des risques à l’échelle de l’entreprise et n
 on la considérer comme une question informatique.\n\nLa conférence a pour 
 ambition d’expliquer aux cadres et chefs d’entreprises ce qu’est la sécuri
 té de l’information\, les mythes souvent rencontrés dans nos entreprises\,
  ainsi que quelques flashs sur des domaines spécifiques pour mettre en œuv
 res une sécurité de l’information efficace dans l’entreprise.\n\nDate : je
 udi\, 3 mai 2018\nLieu : Lounge Bar du Casino de Neuchâtel\nHeure : Accuei
 l : 18h30 – conférence 19h00 suivie du repas\nCoût : CHF 42.- apéro et rep
 as (merci de prendre le compte exacte)\n\nInscription : ci-dessous\n\nUne 
 confirmation d’inscription vous parviendra automatiquement par email.\nDél
 ai d’inscription : 1 mai\nAnnulations : au plus tard 48h avant la manifest
 ation.\n \n \n \n \n 
DTSTART:20180503T183000
DTEND:20180503T223000
LOCATION:Lounge Bar Casino\, Neuchâtel
ORGANIZER:MAILTO:BPW Neuchatel <info@bpw-neuchatel.ch>
SUMMARY:BPW Neuchâtel - Conférence : 'Cybercriminalité'  
END:VEVENT
END:VCALENDAR
