BEGIN:VCALENDAR
VERSION:2.0
PRODID:-//BPW Neuchatel//NONSGML kigkonsult.se iCalcreator 2.16.12//
METHOD:PUBLISH
X-MS-OLK-FORCEINSPECTOROPEN:TRUE
BEGIN:VEVENT
UID:20260424T155910CEST-97552bRcTG@BPW Neuchatel
DTSTAMP:20260424T135910Z
DESCRIPTION: \n\nNous avons le plaisir de vous inviter pour la visite d’une
  entreprise d’exception :\n\n'Technoglass New SA '\n\nest une société reco
 nnue dans le monde entier grâce à son l’activité très spécialisée dans la 
 fabrication de verres bombés haut-de gammes. Ses produits réalisés sur mes
 ure trouvent leur application dans des secteurs comme l’automobile\, la na
 vigation\, le bâtiment\, le rail\, les téléphériques ou des réalisations s
 péciales. Leur savoir-faire est mondialement connu.\n\nL’entreprise compor
 te 2 sites. Le site de Couvet que nous allons visiter a été construit uniq
 uement pour répondre à une seule commande pharaonique\, à savoir réalisati
 on d’une roue géante de plaisance de 210m de diamètres the «Dubai Eye ». S
 a réalisation est aussi extravagante qu’impressionnante…\n\nDate : 12 avri
 l 2018\nLieu : Zone industrielle de Couvet (20 minutes de Neuchâtel)\nHeur
 e : 17h30 : début de la visite à Couvet\nCoût : CHF 20.- pour visite et l’
 apéritif\n\nInscription : Sur notre site internet (rubrique : Programme 20
 17-2018).\n\nUne confirmation d’inscription vous parviendra automatiquemen
 t par email.\n\nDélai d’inscription : 5 avril au plus tard\n\nProgramme :
 \n17h30 -18h45 : Rendez-vous sur place. Visite de l’entreprise et apéro\n1
 9h30 : Retour à Neuchâtel – repas informel à Neuchâtel pour celles qui le 
 souhaite.\n\nNous nous réjouissons de vous revoir et de passer ce moment d
 e partage avec vous.\nLe comité\n
DTSTART:20180412T173000
DTEND:20180412T213000
LOCATION:Couvet 
ORGANIZER:MAILTO:BPW Neuchatel <info@bpw-neuchatel.ch>
SUMMARY:Visite de l'entreprise 'Technoglass New SA'
END:VEVENT
END:VCALENDAR
