BEGIN:VCALENDAR
VERSION:2.0
PRODID:-//BPW Neuchatel//NONSGML kigkonsult.se iCalcreator 2.16.12//
METHOD:PUBLISH
X-MS-OLK-FORCEINSPECTOROPEN:TRUE
BEGIN:VEVENT
UID:20260424T155939CEST-8721RG9Gne@BPW Neuchatel
DTSTAMP:20260424T135939Z
DESCRIPTION:
DTSTART:20180705T000000
DTEND:20180705T235900
LOCATION:Lieu à confirmer
ORGANIZER:MAILTO:BPW Neuchatel <info@bpw-neuchatel.ch>
SUMMARY:BPW Neuchâtel - 'Evénement Young BPW' 
END:VEVENT
END:VCALENDAR
