BEGIN:VCALENDAR
VERSION:2.0
PRODID:-//BPW Neuchatel//NONSGML kigkonsult.se iCalcreator 2.16.12//
METHOD:PUBLISH
X-MS-OLK-FORCEINSPECTOROPEN:TRUE
BEGIN:VEVENT
UID:20260424T153736CEST-4764LVfUvC@BPW Neuchatel
DTSTAMP:20260424T133736Z
DESCRIPTION:Invitation – formation exclusive pour nos membres\n\nChères mem
 bres\,\n\nNous avons le plaisir de vous inviter à une formation offerte pa
 r le BPW Neuchâtel sur le thème\n \n' Art oratoire - Devenir actrice de sa
  parole '\n\nOser s’exprimer en public et y trouver du plaisir !\n\nCommen
 t monter sur scène sans fuir en courant ? Comment être face au public et c
 ontinuer à progresser dans la transmission du message ? Comment avoir du p
 laisir à être ensemble dans ce moment-là\, le public d’un côté et vous de 
 l’autre ?\n\nLe but de cet atelier animé par Sandra Amodio est de répondre
  à ces questions en vous transmettant par la pratique quelques astuces pou
 r renforcer votre prise de parole afin de mieux gérer votre trac et de cré
 er l’alliance avec vos interlocuteurs.\nSandra Amodio est metteur en scène
  et formatrice expérimentée dans la prise de parole. Par son approche jovi
 ale et pragmatique\, elle saura nous transmettre son art et sa passion en 
 toute décontraction.\n\nDate : 6 septembre 2018\nLieu : Lounge bar du Casi
 no de Neuchâtel\nHeure : 18h00-21h30\nCoût : Offert par le BPW (formation 
 + repas dinatoire + boissons)\n\nInscription : Sur notre site internet. Le
 s places sont limitées à 16 personnes. Les inscriptions seront considérées
  par ordre d’arrivée.\n\nUne confirmation d’inscription vous parviendra au
 tomatiquement par email.\n\nDélai d’inscription : 3 septembre\n\nPour tout
 e annulation faite moins de 48h avant la manifestation\, il sera facturé u
 n montant de 50.-\n\nNous nous réjouissons de passer ce moment avec vous t
 outes.\n\nLe comité Détails à suivre...
DTSTART:20180906T180000
DTEND:20180906T210000
LOCATION:Lounge Bar Casino\, Neuchâtel
ORGANIZER:MAILTO:BPW Neuchatel <info@bpw-neuchatel.ch>
SUMMARY:BPW Neuchâtel - Formation exclusive 'Art Oratoire'   
END:VEVENT
END:VCALENDAR
