BEGIN:VCALENDAR
VERSION:2.0
PRODID:-//BPW Neuchatel//NONSGML kigkonsult.se iCalcreator 2.16.12//
METHOD:PUBLISH
X-MS-OLK-FORCEINSPECTOROPEN:TRUE
BEGIN:VEVENT
UID:20260424T155637CEST-6774It87us@BPW Neuchatel
DTSTAMP:20260424T135637Z
DESCRIPTION:Chères membres\,\nNous avons le plaisir de vous inviter pour no
 tre prochaine conférence-débat sur le thème\n \n' Femmes et retraites : un
 e inégalité de plus...'\n\nIl s’agit de la présentation d’une étude sur le
 s conséquences du travail à temps partiel sur la prévoyance vieillesse par
  Nicole Baur\, membre du BPW NE et cheffe de l’office de la politique fami
 liale et de l’égalité du canton de Neuchâtel.\n\nCe qu’il faut savoir :\nE
 n Suisse\, 60% des femmes (80% des mères) ont une activité professionnelle
  à temps partiel. Or ce modèle a des conséquences non seulement durant la 
 vie active\, mais également au moment de la retraite.\n \n\n	Date : jeudi\,
  4 octobre 2018\n	Heure : Accueil : 18h30 – conférence 19h00 suivie d’un ap
 éritif dinatoire\n	Coût : CHF 35.- conférence & apéro/boissons (merci de pr
 endre le compte exacte)\n	Inscription : Sur notre site internet (rubrique :
  Programme 2017-2018). Une confirmation d’inscription vous parviendra auto
 matiquement par email.\n	Délai d’inscription : 1er octobre. Annulations : a
 u plus tard 48h avant la manifestation.\n\nNous nous réjouissons de vous r
 evoir et de passer ce moment de partage avec vous.\nLe comité \n 
DTSTART:20181004T183000
DTEND:20181004T223000
LOCATION:Café OKAPI\, Neuchâtel
ORGANIZER:MAILTO:BPW Neuchatel <info@bpw-neuchatel.ch>
SUMMARY:BPW Neuchâtel - Conférence et débat : 'Femmes et retraites : une in
 égalité de plus..
END:VEVENT
END:VCALENDAR
