BEGIN:VCALENDAR
VERSION:2.0
PRODID:-//BPW Neuchatel//NONSGML kigkonsult.se iCalcreator 2.16.12//
METHOD:PUBLISH
X-MS-OLK-FORCEINSPECTOROPEN:TRUE
BEGIN:VEVENT
UID:20260424T155933CEST-1155EtwhzF@BPW Neuchatel
DTSTAMP:20260424T135933Z
DESCRIPTION:\nInvitation à notre prochaine rencontre \n\n \n\nChères membre
 s\, \n\nNous avons le plaisir de vous inviter à notre soirée\n \n\n« Chill
 out & Exchange»\n \n\nde fin d’année et de vous donner quelques informatio
 ns et vous communiquer les dates de nos manifestations 2019 (ci-dessous). 
 \n\nSoirée : il s’agit d’une rencontre informelle dans un cadre original e
 t décontracté. Notre présidente vous donnera quelques informations sur nos
  activités passées et à venir et ensuite nous poursuivrons la soirée de ma
 nière détendue\, laissant place à du réseautage et des échanges d’idées (p
 etite animation « Boîte à idées »).\n\n\nDate : Jeudi\, 15 novembre 2018\n
 \nLieu : Yourte du Bassin Bleu\, Port de Neuchâtel \n\nHeure : 18h30 – 21h
 30\n\nCoût : Apéro et repas raclette - CHF 25.- \n\nInscription : Sur notr
 e site internet (rubrique : Programme 2017-2018).\nUne confirmation d’insc
 ription vous parviendra automatiquement par email.\nDélai d’inscription : 
 9 novembre\nAnnulations : au plus tard 48h avant la manifestation. \n\n \n
 \nNous nous réjouissons de vous revoir et de passer ce moment de partage a
 vec vous. \n\nLe comité \n
DTSTART:20181115T183000
DTEND:20181115T213000
LOCATION:Yourte Bassin Bleu
ORGANIZER:MAILTO:BPW Neuchatel <info@bpw-neuchatel.ch>
SUMMARY:BPW Neuchâtel - Séance d'information & d'échanges - repas de fin d'
 année 
END:VEVENT
END:VCALENDAR
