BEGIN:VCALENDAR
VERSION:2.0
PRODID:-//BPW Neuchatel//NONSGML kigkonsult.se iCalcreator 2.16.12//
METHOD:PUBLISH
X-MS-OLK-FORCEINSPECTOROPEN:TRUE
BEGIN:VEVENT
UID:20260424T153636CEST-5206XudNWT@BPW Neuchatel
DTSTAMP:20260424T133636Z
DESCRIPTION:PEP stands for Personal Empowerment Program\, an interactive tr
 aining program developed by BPW USA especially for women with the goal to 
 prepare themselves for individual leadership tasks in their professional\,
  social and personal lives.\n\nMore information\n\ninscription\n\n \n
DTSTART:20180406T000000
DTEND:20180407T235900
LOCATION:Rabat
ORGANIZER:MAILTO:BPW Neuchatel <info@bpw-neuchatel.ch>
SUMMARY:PEP and Train the Trainer Session
END:VEVENT
END:VCALENDAR
