BEGIN:VCALENDAR
VERSION:2.0
PRODID:-//BPW Neuchatel//NONSGML kigkonsult.se iCalcreator 2.16.12//
METHOD:PUBLISH
X-MS-OLK-FORCEINSPECTOROPEN:TRUE
BEGIN:VEVENT
UID:20260424T155759CEST-9033h1IMiP@BPW Neuchatel
DTSTAMP:20260424T135759Z
DESCRIPTION:Invitation à la conférence des présidentes du 29.09.2018\n \nLe
 s présidentes de tous les clubs BPW de Suisse et le Comité central des BPW
  Switzerland se rencontrent une fois par an lors de la conférence des prés
 identes.\n\nLa participation est gratuite pour tous les (co)présidentes. E
 n cas d'annulation après le 24 septembre 2018\, une taxe de CHF 86 sera fa
 cturée.\n
DTSTART:20180929T090000
DTEND:20180929T174500
LOCATION:Hotel Astoria\, Olten
ORGANIZER:MAILTO:BPW Neuchatel <info@bpw-neuchatel.ch>
SUMMARY:Conférence des présidentes
END:VEVENT
END:VCALENDAR
