BEGIN:VCALENDAR
VERSION:2.0
PRODID:-//BPW Neuchatel//NONSGML kigkonsult.se iCalcreator 2.16.12//
METHOD:PUBLISH
X-MS-OLK-FORCEINSPECTOROPEN:TRUE
BEGIN:VEVENT
UID:20260424T173510CEST-7497uMJvGW@BPW Neuchatel
DTSTAMP:20260424T153510Z
DESCRIPTION:C’est l’occasion pour les présidentes nouvellement élues de rec
 evoir les principales informations pour remplir leur fonction.
DTSTART:20190406T090000
DTEND:20190406T170000
LOCATION:Hotel Astoria\, Olten
ORGANIZER:MAILTO:BPW Neuchatel <info@bpw-neuchatel.ch>
SUMMARY:Formation des nouvelles présidentes
END:VEVENT
END:VCALENDAR
