BEGIN:VCALENDAR
VERSION:2.0
PRODID:-//BPW Neuchatel//NONSGML kigkonsult.se iCalcreator 2.16.12//
METHOD:PUBLISH
X-MS-OLK-FORCEINSPECTOROPEN:TRUE
BEGIN:VEVENT
UID:20260424T174914CEST-2440O1nxif@BPW Neuchatel
DTSTAMP:20260424T154914Z
DESCRIPTION:Save the Date!\n\nIm Februar 2019 ist der 10. Jahrestag des Equ
 al Pay Day in der Schweiz.\n\n 
DTSTART:20190222T000000
DTEND:20190222T235900
ORGANIZER:MAILTO:BPW Neuchatel <info@bpw-neuchatel.ch>
SUMMARY:Equal Pay Day 2019
END:VEVENT
END:VCALENDAR
