BEGIN:VCALENDAR
VERSION:2.0
PRODID:-//BPW Neuchatel//NONSGML kigkonsult.se iCalcreator 2.16.12//
METHOD:PUBLISH
X-MS-OLK-FORCEINSPECTOROPEN:TRUE
BEGIN:VEVENT
UID:20260424T153525CEST-7554xGOaVM@BPW Neuchatel
DTSTAMP:20260424T133525Z
DESCRIPTION:Evénement pour les élections nationales 2019 de l'Alliance f\n
 \nAvec\n- Gülsha Adilji\, Autorin und Moderatorin\n- Patrizia Laeri\, Wirt
 schaftsredaktorin\n- Elisabeth Kopp\, erste Bundesrätin\n- Petra Volpe\, A
 utorin und Regisseurin 'Die göttliche Ordnung'\n- Sarah Brunner\, Hauptman
 n\, Kompaniekommandantin\, Berufsoffizierin\n- Viola Lorenz\, Präsidentin 
 und Gründerin Swiss Nursing Students\n- Regula Bührer-Fecker\, Werberin un
 d Autorin #Frauenarbeit\n- Frederike Asael\, Co-Founderin Impact Hub Bern
 \n\nHôtes:\n- Kathrin Bertschy\, Co-Präsidentin Alliance f\, Dachverband d
 er Frauenorganisationen\n- Flavia Kleiner\, Co-Präsidentin Operation Liber
 o\n\nInscription\n 
DTSTART:20180927T191500
DTEND:20180927T000000
LOCATION:Aula PROGR\, Zentrum für Kulturproduktion 
ORGANIZER:MAILTO:BPW Neuchatel <info@bpw-neuchatel.ch>
SUMMARY:#EF2019
END:VEVENT
END:VCALENDAR
