BEGIN:VCALENDAR
VERSION:2.0
PRODID:-//BPW Neuchatel//NONSGML kigkonsult.se iCalcreator 2.16.12//
METHOD:PUBLISH
X-MS-OLK-FORCEINSPECTOROPEN:TRUE
BEGIN:VEVENT
UID:20260424T173136CEST-0044hfk8vj@BPW Neuchatel
DTSTAMP:20260424T153136Z
DESCRIPTION:\nDétails:\n \n\n	31 janvier 2019\n	Lounge Bar du Casino de Neuch
 âtel (1er étage)\n	Accueil 18h30. Début de la séance 19h00\n	Séance\, repas 
 (entrée–plat–minérale–café–verre de vin) : CHF 40.-\n\nInscription : ci-de
 ssous\nUne confirmation d’inscription vous parviendra automatiquement par 
 email.\nDélai d’inscription : 24 janvier 2019\n\nToute annulation faite mo
 ins de 48h avant la manifestation sera due.\n\nL'agenda  détaillé ainsi qu
 e le PV de l’assemblée générale de 2018 vous a été envoyé par mail.\n\nAu 
 plaisir de vous voir nombreuse pour le lancement de notre nouvelle année.
 \n\nLe comité
DTSTART:20190131T183000
DTEND:20190131T223000
LOCATION:Lounge Bar du Casino de Neuchâtel 
ORGANIZER:MAILTO:BPW Neuchatel <info@bpw-neuchatel.ch>
SUMMARY:Assemblée générale du BPW Neuchâtel
END:VEVENT
END:VCALENDAR
