BEGIN:VCALENDAR
VERSION:2.0
PRODID:-//BPW Neuchatel//NONSGML kigkonsult.se iCalcreator 2.16.12//
METHOD:PUBLISH
X-MS-OLK-FORCEINSPECTOROPEN:TRUE
BEGIN:VEVENT
UID:20260424T174552CEST-2268iT9amT@BPW Neuchatel
DTSTAMP:20260424T154552Z
DESCRIPTION: \n\n\n\n\nLes BPW (Business and Professional Women)\, soucieus
 es de l’égalité salariale homme-femme ont relevé que la nouvelle révision 
 de la loi sur l'égalité (LEg) a pu enfin\, après un toilettage de fond\, ê
 tre votée. Les femmes en sont contentes car elles notent l’avancée politiq
 ue sur ce terrain. Aujourd’hui\, elles attendent la position et l’action d
 u monde économique.\nA ce titre\, l’Etat et la ville de Neuchâtel ont sign
 é la charte pour l’égalité des salaires.\nPar sa journée nationale d'actio
 n l’Equal Pay Day\, le BPW compte marquer sa vigilance en rappelant la dis
 parité salariale entre les hommes et les femmes qui persiste encore aujour
 d’hui.\n\n\nvendredi 22 février 2019\n\nLe BPW club de Neuchâtel organise 
 une table ronde qui réunira les personnalités suivantes :\n\n- M. Alain RI
 BAUX Conseiller d’Etat Neuchâtel (RH)\n- M. Fabio BONGIOVANNI Conseiller c
 ommunal Ville de Neuchâtel (RH)\n- Mme Céline VARA Avocate Députée (les Ve
 rts Neuchâtel)\n- M. Baptiste HURNI Avocat Député (PS Neuchâtel)\n- M. Pie
 rre-Olivier CHAVE PDG PX Group\n- M. Florian NEMETI Directeur CNCI\n- Mme 
 Nicole BAUR Cheffe du Bureau de l’Egalité Neuchâtel (Modératrice)\n\nCette
  manifestation est ouverte à la société civile et aux étudiants des HE-ARC
 \, Universités et Lycées du Canton dont les étudiants pourront s’adresser 
 au panel pour poser leurs questions.\n\n\n\n\n\n
DTSTART:20190223T183000
DTEND:20190223T210000
LOCATION:Casino Neuchâtel 
ORGANIZER:MAILTO:BPW Neuchatel <info@bpw-neuchatel.ch>
SUMMARY:BPW Neuchâtel - Equal Pay Day 
END:VEVENT
END:VCALENDAR
