BEGIN:VCALENDAR
VERSION:2.0
PRODID:-//BPW Neuchatel//NONSGML kigkonsult.se iCalcreator 2.16.12//
METHOD:PUBLISH
X-MS-OLK-FORCEINSPECTOROPEN:TRUE
BEGIN:VEVENT
UID:20260424T173206CEST-23207EgFfE@BPW Neuchatel
DTSTAMP:20260424T153206Z
DESCRIPTION: \n\n \n\nNous avons le plaisir de vous inviter pour une confér
 ence-débat animée par la Dre Véronique Negrel sur le thème\n \n\n« Le Somm
 eil : comprendre son importance sur le plan personnel et professionnel »\n
 \n \n\nVéronique Negrel est pneumologue FMH\, somnologue et allergologue. 
 Il a fait ses études en France et exerce son activité en cabinet privé\, e
 n France\, puis à Neuchâtel depuis septembre 2015. \n\nSes locaux se trouv
 ent dans l’enceinte de l’Hôpital de la Providence. Elle est mère de 3 enfa
 nts : 1 fils de 25 ans (ingénieur en aéronautique à Toulouse)\, 1 fille de
  23 ans (fin d’Ecole de commerce en double diplôme à Shangaï) et 1 fils de
  19 ans qui va rentrer à l’EPFL.\n\n \n\nNous nous réjouissons de l’accuei
 llir et d’en apprendre davantage sur ce sujet essentiel à notre bien-être.
  \n\n \n\n \n\n\n	Date : jeudi\, 14 mars 2019\n	Lieu : Rue du Tertre 4 – sal
 le de conférence \n	Heure :  Accueil : 18h30 – conférence 19h00 suivie du r
 epas au « Cercle de la Colonia Libera Italiana » juste à côté (Rue du Tert
 re 32)\n	Coût : CHF 38.- conférence & repas (merci de prendre le compte exa
 cte) \n	Inscription : Sur notre site internet (rubrique : Programme 2018-20
 19). Une confirmation d’inscription vous parviendra automatiquement par em
 ail.\n	Délai d’inscription : 12 mars (midi)\n	Annulations : au plus tard 48h
  avant la manifestation. \n\n\n \n\nNous nous réjouissons de vous revoir e
 t de passer ce moment de partage avec vous. \n\n \n\nLe nouveau comité \n
 \n \n\n \n\n \n
DTSTART:20190314T183000
DTEND:20190314T213000
LOCATION:Rue du Tertre 4\, Neuchâtel 
ORGANIZER:MAILTO:BPW Neuchatel <info@bpw-neuchatel.ch>
SUMMARY:BPW Neuchâtel - 'Le Sommeil'
END:VEVENT
END:VCALENDAR
