BEGIN:VCALENDAR
VERSION:2.0
PRODID:-//BPW Neuchatel//NONSGML kigkonsult.se iCalcreator 2.16.12//
METHOD:PUBLISH
X-MS-OLK-FORCEINSPECTOROPEN:TRUE
BEGIN:VEVENT
UID:20260424T173606CEST-8797zuewO6@BPW Neuchatel
DTSTAMP:20260424T153606Z
DESCRIPTION: \n\nNous avons le plaisir de vous inviter pour la prochaine vi
 site d’entreprise. A titre exceptionnel\, le site de production Nespresso 
 de Avenches (FR) va nous accueililr pour une visite découverte : \n\n \n\n
 'NESPRESSO - What else?' \n \n\nLa visite comportera un « voyage » de la r
 écolte du café dans les pays d’origine à la distribution des capsules\, y 
 compris la vue sur la halle de production\, les contrôles qualité\, l’entr
 epôt High Bay\, et les activités Pick & Pack. \n\n \n\n \n\n\n	Date : jeudi
 \, 11 avril 2019\n	Lieu : site de production – Avenches \n	Heure : 16h30 : s
 ur place. Visite : 16h45-18h00\n	Coût : CHF 40.- pour visite et repas au Te
 rzopiano à Marin dès 18h30.\n	Inscription : ci-dessous. Les places sont lim
 itées. Inscrivez-vous de suite. \n	Délai d’inscription : 5 avril au plus ta
 rd\n	Une confirmation d’inscription vous parviendra automatiquement par ema
 il.\n\n\nUn plan d’accès vous sera envoyé par email avec l'invitation.\nLe
  site NESPRESSO se trouve à env. 20 de Neuchâtel. Itinéraire conseillé: pa
 r Cudrefin – Salavaux – Avenches. \n\nPrévoir des chaussures plates et con
 fortables. \n\n \n\nNous nous réjouissons de vous revoir et de passer ce m
 oment de découverte avec vous. \n\n \n\nLe comité \n\n \n
DTSTART:20190411T173000
DTEND:20190411T213000
LOCATION:Avenches 
ORGANIZER:MAILTO:BPW Neuchatel <info@bpw-neuchatel.ch>
SUMMARY:Visite exclusive : NESPRESSO Avenches
END:VEVENT
END:VCALENDAR
