BEGIN:VCALENDAR
VERSION:2.0
PRODID:-//BPW Neuchatel//NONSGML kigkonsult.se iCalcreator 2.16.12//
METHOD:PUBLISH
X-MS-OLK-FORCEINSPECTOROPEN:TRUE
BEGIN:VEVENT
UID:20260424T173018CEST-5104gHu4Xg@BPW Neuchatel
DTSTAMP:20260424T153018Z
DESCRIPTION:\nChères membres et intéressées\nChers invités-es\,\n\n\nLe BPW
  Club de Neuchâtel a le plaisir de vous convier à sa conférence interclubs
  et mixte donnée par M. Michel Perrin\, CEO de la société UDITIS sur le th
 ème de\n \n« La transformation numérique et ses conséquences organisationn
 elles »\n\n\n\n\n\nLe monde change ! De ce fait\, les entreprises doivent 
 profiter de la transformation numérique pour augmenter leur valeur ajoutée
  tout en restant flexibles et agiles. Accompagnées par UDITIS\, elles intè
 grent ce nouveau paradigme et initient leurs transformations.\n\nDepuis 18
  ans plus de 50 collaborateurs\, actifs dans le monde des systèmes d’infor
 mation\, soutiennent et conseillent les PME dans cette transformation afin
  de maintenir un tissu industriel à haute valeur ajoutée.\n \nJeudi\, 9 ma
 i 2019 Hôtel DuPeyrou à Neuchâtel à 18h30\n\nConférence\, repas & réseauta
 ge entre les participants\n\nTarif : CHF 65.- à payer sur place\n\nLes pla
 ces étant limitées\, merci de vous inscrire sur notre site internet.\n \nD
 élai d’inscription : 7 mai à midi\n\n\nPour le comité\,\nAurelia Di Lenard
 o | vice-présidente BPW Switzerland Club Neuchâtel | Chargée de communicat
 ion | M. 079 233 95 86\n\nSuivez l’actualité du BPW Club Neuchâtel sur Fac
 ebook & LinkedIN\n 
DTSTART:20190509T183000
DTEND:20190509T223000
LOCATION:Hôtel du Peyrou
ORGANIZER:MAILTO:BPW Neuchatel <info@bpw-neuchatel.ch>
SUMMARY:BPW Neuchâtel - Conférence & Interclub BPW - 'La Transformation num
 érique'
END:VEVENT
END:VCALENDAR
