BEGIN:VCALENDAR
VERSION:2.0
PRODID:-//BPW Neuchatel//NONSGML kigkonsult.se iCalcreator 2.16.12//
METHOD:PUBLISH
X-MS-OLK-FORCEINSPECTOROPEN:TRUE
BEGIN:VEVENT
UID:20260424T174603CEST-3467dZL842@BPW Neuchatel
DTSTAMP:20260424T154603Z
DESCRIPTION:\nChères membres\, \n\nChères intéressées\,\nChères invitées\,
 \n\n\n\n\nLe BPW Club de Neuchâtel a le plaisir de vous convier à sa confé
 rence donnée par Mesdames Isabelle Coenen-Favre\, cheffe de projet et Marj
 orie Schmidt\, ambassadrice et coach\, de l’association ZeroWaste Switzerl
 and sur le thème de\n\n \n\n\n\n\n« Zéro Déchet : Définition\, Démarche\, 
 Impact »\n \n\n\n\nA l'heure de l'urgence climatique\, ZeroWaste Switzerla
 nd vous propose des gestes concrets pour diminuer votre impact environneme
 ntal négatif sur la planète. \n\n\n\n\n\n\n\nLors de la conférence\, nous 
 aborderons le Zéro Déchet et proposerons des changements d'habitudes durab
 les autant de votre sphère privée que dans celle professionnelle.\n\n\n \n
 \n\n\nConférence\, apéritif dinatoire & réseautage entre les participantes
  \n\n\n\nTarif : CHF 25.-  à payer sur place\n\n\n\nLes places étant limit
 ées\, merci de vous inscrire sur notre site internet.\n \n\nDélai d’inscri
 ption : 17 juin à midi\n \n
DTSTART:20190620T183000
DTEND:20190620T223000
LOCATION:La Mezzanine\, Rue des Usines 17\, Neuchâtel
ORGANIZER:MAILTO:BPW Neuchatel <info@bpw-neuchatel.ch>
SUMMARY:BPW Neuchâtel - Conférence 'Zéro Déchet'  
END:VEVENT
END:VCALENDAR
